![]() | Name | Last modified | Size | Description |
---|---|---|---|---|
![]() | Parent Directory | - | ||
![]() | install-out.txt | 16-Oct-2021 04:06 | 2.5K | |
![]() | install-summary.dcf | 16-Oct-2021 04:06 | 613 | |
![]() | buildsrc-out.txt | 16-Oct-2021 04:06 | 890 | |
![]() | buildsrc-summary.dcf | 16-Oct-2021 04:06 | 447 | |
![]() | checksrc-out.txt | 16-Oct-2021 04:06 | 5.4K | |
![]() | checksrc-summary.dcf | 16-Oct-2021 04:06 | 450 | |
![]() | buildbin-out.txt | 16-Oct-2021 04:06 | 1.8K | |
![]() | buildbin-summary.dcf | 16-Oct-2021 04:06 | 519 | |