Name | Last modified | Size | Description | |
---|---|---|---|---|
Parent Directory | - | |||
buildbin-out.txt | 16-Oct-2021 04:06 | 3.1K | ||
buildbin-summary.dcf | 16-Oct-2021 04:06 | 608 | ||
buildsrc-out.txt | 16-Oct-2021 04:06 | 941 | ||
buildsrc-summary.dcf | 16-Oct-2021 04:06 | 505 | ||
checksrc-out.txt | 16-Oct-2021 04:06 | 4.3K | ||
checksrc-summary.dcf | 16-Oct-2021 04:06 | 508 | ||
install-out.txt | 16-Oct-2021 04:06 | 3.9K | ||
install-summary.dcf | 16-Oct-2021 04:06 | 742 | ||