Name | Last modified | Size | Description | |
---|---|---|---|---|
Parent Directory | - | |||
install-summary.dcf | 16-Oct-2021 04:06 | 667 | ||
install-out.txt | 16-Oct-2021 04:06 | 5.5K | ||
checksrc-summary.dcf | 16-Oct-2021 04:06 | 474 | ||
checksrc-out.txt | 16-Oct-2021 04:06 | 4.3K | ||
buildsrc-summary.dcf | 16-Oct-2021 04:06 | 471 | ||
buildsrc-out.txt | 16-Oct-2021 04:06 | 860 | ||
buildbin-summary.dcf | 16-Oct-2021 04:06 | 556 | ||
buildbin-out.txt | 16-Oct-2021 04:06 | 4.8K | ||