Name | Last modified | Size | Description | |
---|---|---|---|---|
Parent Directory | - | |||
buildbin-out.txt | 16-Oct-2021 04:06 | 1.1K | ||
buildbin-summary.dcf | 16-Oct-2021 04:06 | 547 | ||
buildsrc-out.txt | 16-Oct-2021 04:06 | 824 | ||
buildsrc-summary.dcf | 16-Oct-2021 04:06 | 443 | ||
checksrc-out.txt | 16-Oct-2021 04:06 | 4.1K | ||
checksrc-summary.dcf | 16-Oct-2021 04:06 | 484 | ||
install-out.txt | 16-Oct-2021 04:06 | 1.0K | ||
install-summary.dcf | 16-Oct-2021 04:06 | 286 | ||