Name | Last modified | Size | Description | |
---|---|---|---|---|
Parent Directory | - | |||
install-out.txt | 16-Oct-2021 04:06 | 1.0K | ||
install-summary.dcf | 16-Oct-2021 04:06 | 286 | ||
buildsrc-out.txt | 16-Oct-2021 04:06 | 833 | ||
buildsrc-summary.dcf | 16-Oct-2021 04:06 | 445 | ||
checksrc-summary.dcf | 16-Oct-2021 04:06 | 484 | ||
buildbin-summary.dcf | 16-Oct-2021 04:06 | 547 | ||
checksrc-out.txt | 16-Oct-2021 04:06 | 4.1K | ||
buildbin-out.txt | 16-Oct-2021 04:06 | 1.2K | ||