Name | Last modified | Size | Description | |
---|---|---|---|---|
Parent Directory | - | |||
buildbin-out.txt | 16-Oct-2021 04:06 | 4.2K | ||
buildbin-summary.dcf | 16-Oct-2021 04:06 | 591 | ||
buildsrc-out.txt | 16-Oct-2021 04:06 | 922 | ||
buildsrc-summary.dcf | 16-Oct-2021 04:06 | 494 | ||
checksrc-out.txt | 16-Oct-2021 04:06 | 4.8K | ||
checksrc-summary.dcf | 16-Oct-2021 04:06 | 497 | ||
install-out.txt | 16-Oct-2021 04:06 | 4.9K | ||
install-summary.dcf | 16-Oct-2021 04:06 | 721 | ||