Name | Last modified | Size | Description | |
---|---|---|---|---|
Parent Directory | - | |||
install-out.txt | 16-Oct-2021 04:06 | 31K | ||
install-summary.dcf | 16-Oct-2021 04:06 | 300 | ||
buildsrc-out.txt | 16-Oct-2021 04:06 | 828 | ||
buildsrc-summary.dcf | 16-Oct-2021 04:06 | 462 | ||
checksrc-out.txt | 16-Oct-2021 04:06 | 3.6K | ||
checksrc-summary.dcf | 16-Oct-2021 04:06 | 505 | ||
buildbin-out.txt | 16-Oct-2021 04:06 | 32K | ||
buildbin-summary.dcf | 16-Oct-2021 04:06 | 589 | ||