Name | Last modified | Size | Description | |
---|---|---|---|---|
Parent Directory | - | |||
install-summary.dcf | 16-Oct-2021 04:05 | 269 | ||
install-out.txt | 16-Oct-2021 04:05 | 21K | ||
checksrc-summary.dcf | 16-Oct-2021 04:05 | 443 | ||
checksrc-out.txt | 16-Oct-2021 04:05 | 6.0K | ||
buildsrc-summary.dcf | 16-Oct-2021 04:05 | 431 | ||
buildsrc-out.txt | 16-Oct-2021 04:05 | 83K | ||