Name | Last modified | Size | Description | |
---|---|---|---|---|
Parent Directory | - | |||
buildbin-summary.dcf | 16-Oct-2021 04:06 | 538 | ||
buildbin-out.txt | 16-Oct-2021 04:06 | 1.2K | ||
checksrc-summary.dcf | 16-Oct-2021 04:06 | 471 | ||
checksrc-out.txt | 16-Oct-2021 04:06 | 3.7K | ||
buildsrc-summary.dcf | 16-Oct-2021 04:06 | 439 | ||
buildsrc-out.txt | 16-Oct-2021 04:06 | 891 | ||
install-summary.dcf | 16-Oct-2021 04:06 | 283 | ||
install-out.txt | 16-Oct-2021 04:06 | 1.0K | ||