Index of /checkResults/3.13/bioc-LATEST/pcot2/raw-results/tokay2
Name
Last modified
Size
Description
Parent Directory
-
buildsrc-out.txt
16-Oct-2021 04:06
2.7K
buildsrc-summary.dcf
16-Oct-2021 04:06
368
install-out.txt
16-Oct-2021 04:06
2.5K
install-summary.dcf
16-Oct-2021 04:06
622