Index of /checkResults/3.13/bioc-LATEST/pcot2/raw-results/nebbiolo1
Name
Last modified
Size
Description
Parent Directory
-
install-out.txt
16-Oct-2021 04:05
1.1K
install-summary.dcf
16-Oct-2021 04:05
254
buildsrc-summary.dcf
16-Oct-2021 04:05
329
buildsrc-out.txt
16-Oct-2021 04:05
2.5K