Name | Last modified | Size | Description | |
---|---|---|---|---|
Parent Directory | - | |||
buildbin-out.txt | 16-Oct-2021 04:06 | 1.9K | ||
buildbin-summary.dcf | 16-Oct-2021 04:06 | 548 | ||
buildsrc-out.txt | 16-Oct-2021 04:06 | 854 | ||
buildsrc-summary.dcf | 16-Oct-2021 04:06 | 464 | ||
checksrc-out.txt | 16-Oct-2021 04:06 | 4.3K | ||
checksrc-summary.dcf | 16-Oct-2021 04:06 | 474 | ||
install-out.txt | 16-Oct-2021 04:06 | 2.6K | ||
install-summary.dcf | 16-Oct-2021 04:06 | 652 | ||