Index of /checkResults/3.13/bioc-LATEST/omicRexposome/raw-results/tokay2
Name
Last modified
Size
Description
Parent Directory
-
buildsrc-out.txt
16-Oct-2021 04:06
705
buildsrc-summary.dcf
16-Oct-2021 04:06
399
install-out.txt
16-Oct-2021 04:06
2.9K
install-summary.dcf
16-Oct-2021 04:06
695