Name | Last modified | Size | Description | |
---|---|---|---|---|
Parent Directory | - | |||
buildbin-summary.dcf | 16-Oct-2021 04:06 | 563 | ||
buildbin-out.txt | 16-Oct-2021 04:06 | 9.3K | ||
checksrc-summary.dcf | 16-Oct-2021 04:06 | 478 | ||
checksrc-out.txt | 16-Oct-2021 04:06 | 5.6K | ||
buildsrc-summary.dcf | 16-Oct-2021 04:06 | 474 | ||
buildsrc-out.txt | 16-Oct-2021 04:06 | 957 | ||
install-summary.dcf | 16-Oct-2021 04:06 | 676 | ||
install-out.txt | 16-Oct-2021 04:06 | 10K | ||