Name | Last modified | Size | Description | |
---|---|---|---|---|
Parent Directory | - | |||
buildbin-out.txt | 16-Oct-2021 04:06 | 8.6K | ||
buildbin-summary.dcf | 16-Oct-2021 04:06 | 571 | ||
checksrc-summary.dcf | 16-Oct-2021 04:06 | 494 | ||
checksrc-out.txt | 16-Oct-2021 04:06 | 4.2K | ||
buildsrc-summary.dcf | 16-Oct-2021 04:06 | 456 | ||
buildsrc-out.txt | 16-Oct-2021 04:06 | 942 | ||
install-summary.dcf | 16-Oct-2021 04:06 | 294 | ||
install-out.txt | 16-Oct-2021 04:06 | 8.5K | ||