Name | Last modified | Size | Description | |
---|---|---|---|---|
Parent Directory | - | |||
buildsrc-out.txt | 16-Oct-2021 04:05 | 868 | ||
buildsrc-summary.dcf | 16-Oct-2021 04:05 | 406 | ||
checksrc-out.txt | 16-Oct-2021 04:05 | 15K | ||
checksrc-summary.dcf | 16-Oct-2021 04:05 | 413 | ||
install-out.txt | 16-Oct-2021 04:05 | 318K | ||
install-summary.dcf | 16-Oct-2021 04:05 | 252 | ||