Name | Last modified | Size | Description | |
---|---|---|---|---|
Parent Directory | - | |||
buildbin-out.txt | 16-Oct-2021 04:06 | 16K | ||
buildbin-summary.dcf | 16-Oct-2021 04:06 | 569 | ||
buildsrc-out.txt | 16-Oct-2021 04:06 | 902 | ||
buildsrc-summary.dcf | 16-Oct-2021 04:06 | 478 | ||
checksrc-out.txt | 16-Oct-2021 04:06 | 5.5K | ||
checksrc-summary.dcf | 16-Oct-2021 04:06 | 482 | ||
install-out.txt | 16-Oct-2021 04:06 | 17K | ||
install-summary.dcf | 16-Oct-2021 04:06 | 685 | ||