Name | Last modified | Size | Description | |
---|---|---|---|---|
Parent Directory | - | |||
install-summary.dcf | 16-Oct-2021 04:06 | 304 | ||
install-out.txt | 16-Oct-2021 04:06 | 1.0K | ||
checksrc-summary.dcf | 16-Oct-2021 04:06 | 513 | ||
checksrc-out.txt | 16-Oct-2021 04:06 | 3.6K | ||
buildsrc-summary.dcf | 16-Oct-2021 04:06 | 471 | ||
buildsrc-out.txt | 16-Oct-2021 04:06 | 869 | ||
buildbin-summary.dcf | 16-Oct-2021 04:06 | 601 | ||
buildbin-out.txt | 16-Oct-2021 04:06 | 1.3K | ||