Name | Last modified | Size | Description | |
---|---|---|---|---|
Parent Directory | - | |||
buildsrc-out.txt | 16-Oct-2021 04:05 | 907 | ||
buildsrc-summary.dcf | 16-Oct-2021 04:05 | 423 | ||
checksrc-out.txt | 16-Oct-2021 04:05 | 5.1K | ||
checksrc-summary.dcf | 16-Oct-2021 04:05 | 438 | ||
install-out.txt | 16-Oct-2021 04:05 | 4.7K | ||
install-summary.dcf | 16-Oct-2021 04:05 | 263 | ||