Name | Last modified | Size | Description | |
---|---|---|---|---|
Parent Directory | - | |||
buildbin-summary.dcf | 16-Oct-2021 04:06 | 551 | ||
buildbin-out.txt | 16-Oct-2021 04:06 | 5.7K | ||
checksrc-summary.dcf | 16-Oct-2021 04:06 | 470 | ||
checksrc-out.txt | 16-Oct-2021 04:06 | 5.2K | ||
buildsrc-summary.dcf | 16-Oct-2021 04:06 | 467 | ||
buildsrc-out.txt | 16-Oct-2021 04:06 | 947 | ||
install-summary.dcf | 16-Oct-2021 04:06 | 659 | ||
install-out.txt | 16-Oct-2021 04:06 | 6.3K | ||