Index of /checkResults/3.13/bioc-LATEST/metaseqR2/raw-results/nebbiolo1
Name
Last modified
Size
Description
Parent Directory
-
buildsrc-out.txt
16-Oct-2021 04:05
52K
buildsrc-summary.dcf
16-Oct-2021 04:05
338
install-out.txt
16-Oct-2021 04:05
1.6K
install-summary.dcf
16-Oct-2021 04:05
263