Name | Last modified | Size | Description | |
---|---|---|---|---|
Parent Directory | - | |||
install-summary.dcf | 16-Oct-2021 04:06 | 290 | ||
buildsrc-summary.dcf | 16-Oct-2021 04:06 | 451 | ||
checksrc-summary.dcf | 16-Oct-2021 04:06 | 490 | ||
buildbin-summary.dcf | 16-Oct-2021 04:06 | 560 | ||
buildsrc-out.txt | 16-Oct-2021 04:06 | 934 | ||
install-out.txt | 16-Oct-2021 04:06 | 1.8K | ||
buildbin-out.txt | 16-Oct-2021 04:06 | 2.7K | ||
checksrc-out.txt | 16-Oct-2021 04:06 | 7.3K | ||