Name | Last modified | Size | Description | |
---|---|---|---|---|
Parent Directory | - | |||
checksrc-out.txt | 16-Oct-2021 04:05 | 3.1K | ||
install-out.txt | 16-Oct-2021 04:05 | 952 | ||
buildsrc-out.txt | 16-Oct-2021 04:05 | 865 | ||
checksrc-summary.dcf | 16-Oct-2021 04:05 | 420 | ||
buildsrc-summary.dcf | 16-Oct-2021 04:05 | 414 | ||
install-summary.dcf | 16-Oct-2021 04:05 | 257 | ||