Index of /checkResults/3.13/bioc-LATEST/mdgsa/raw-results/nebbiolo1
Name
Last modified
Size
Description
Parent Directory
-
install-summary.dcf
16-Oct-2021 04:05
257
install-out.txt
16-Oct-2021 04:05
619
buildsrc-summary.dcf
16-Oct-2021 04:05
328
buildsrc-out.txt
16-Oct-2021 04:05
864