Index of /checkResults/3.13/bioc-LATEST/mdgsa/raw-results/machv2
Name
Last modified
Size
Description
Parent Directory
-
install-out.txt
16-Oct-2021 04:06
692
install-summary.dcf
16-Oct-2021 04:06
284
buildsrc-out.txt
16-Oct-2021 04:06
897
buildsrc-summary.dcf
16-Oct-2021 04:06
355