Name | Last modified | Size | Description | |
---|---|---|---|---|
Parent Directory | - | |||
install-summary.dcf | 16-Oct-2021 04:05 | 255 | ||
install-out.txt | 16-Oct-2021 04:05 | 957 | ||
checksrc-summary.dcf | 16-Oct-2021 04:05 | 415 | ||
checksrc-out.txt | 16-Oct-2021 04:05 | 7.7K | ||
buildsrc-summary.dcf | 16-Oct-2021 04:05 | 410 | ||
buildsrc-out.txt | 16-Oct-2021 04:05 | 861 | ||