Name | Last modified | Size | Description | |
---|---|---|---|---|
Parent Directory | - | |||
checksrc-out.txt | 16-Oct-2021 04:06 | 4.3K | ||
install-out.txt | 16-Oct-2021 04:06 | 4.0K | ||
buildbin-out.txt | 16-Oct-2021 04:06 | 3.3K | ||
buildsrc-out.txt | 16-Oct-2021 04:06 | 906 | ||
install-summary.dcf | 16-Oct-2021 04:06 | 680 | ||
buildbin-summary.dcf | 16-Oct-2021 04:06 | 566 | ||
checksrc-summary.dcf | 16-Oct-2021 04:06 | 480 | ||
buildsrc-summary.dcf | 16-Oct-2021 04:06 | 477 | ||