Name | Last modified | Size | Description | |
---|---|---|---|---|
Parent Directory | - | |||
buildsrc-summary.dcf | 16-Oct-2021 04:06 | 475 | ||
checksrc-summary.dcf | 16-Oct-2021 04:06 | 478 | ||
buildbin-summary.dcf | 16-Oct-2021 04:06 | 563 | ||
install-summary.dcf | 16-Oct-2021 04:06 | 677 | ||
buildsrc-out.txt | 16-Oct-2021 04:06 | 1.1K | ||
checksrc-out.txt | 16-Oct-2021 04:06 | 5.7K | ||
buildbin-out.txt | 16-Oct-2021 04:06 | 16K | ||
install-out.txt | 16-Oct-2021 04:06 | 17K | ||