Name | Last modified | Size | Description | |
---|---|---|---|---|
Parent Directory | - | |||
buildbin-out.txt | 16-Oct-2021 04:06 | 1.2K | ||
buildbin-summary.dcf | 16-Oct-2021 04:06 | 532 | ||
buildsrc-out.txt | 16-Oct-2021 04:06 | 887 | ||
buildsrc-summary.dcf | 16-Oct-2021 04:06 | 436 | ||
checksrc-out.txt | 16-Oct-2021 04:06 | 3.7K | ||
checksrc-summary.dcf | 16-Oct-2021 04:06 | 468 | ||
install-out.txt | 16-Oct-2021 04:06 | 1.0K | ||
install-summary.dcf | 16-Oct-2021 04:06 | 281 | ||