Name | Last modified | Size | Description | |
---|---|---|---|---|
Parent Directory | - | |||
install-out.txt | 16-Oct-2021 04:06 | 3.2K | ||
install-summary.dcf | 16-Oct-2021 04:06 | 613 | ||
buildsrc-out.txt | 16-Oct-2021 04:06 | 862 | ||
buildsrc-summary.dcf | 16-Oct-2021 04:06 | 446 | ||
checksrc-out.txt | 16-Oct-2021 04:06 | 4.7K | ||
checksrc-summary.dcf | 16-Oct-2021 04:06 | 449 | ||
buildbin-out.txt | 16-Oct-2021 04:06 | 2.5K | ||
buildbin-summary.dcf | 16-Oct-2021 04:06 | 521 | ||