Name | Last modified | Size | Description | |
---|---|---|---|---|
Parent Directory | - | |||
checksrc-out.txt | 16-Oct-2021 04:06 | 7.5K | ||
buildbin-out.txt | 16-Oct-2021 04:06 | 2.6K | ||
install-out.txt | 16-Oct-2021 04:06 | 1.8K | ||
buildsrc-out.txt | 16-Oct-2021 04:06 | 855 | ||
buildbin-summary.dcf | 16-Oct-2021 04:06 | 535 | ||
checksrc-summary.dcf | 16-Oct-2021 04:06 | 470 | ||
buildsrc-summary.dcf | 16-Oct-2021 04:06 | 438 | ||
install-summary.dcf | 16-Oct-2021 04:06 | 282 | ||