Name | Last modified | Size | Description | |
---|---|---|---|---|
Parent Directory | - | |||
buildbin-out.txt | 16-Oct-2021 04:06 | 1.6K | ||
buildbin-summary.dcf | 16-Oct-2021 04:06 | 557 | ||
buildsrc-out.txt | 16-Oct-2021 04:06 | 860 | ||
buildsrc-summary.dcf | 16-Oct-2021 04:06 | 471 | ||
checksrc-out.txt | 16-Oct-2021 04:06 | 3.9K | ||
checksrc-summary.dcf | 16-Oct-2021 04:06 | 474 | ||
install-out.txt | 16-Oct-2021 04:06 | 2.2K | ||
install-summary.dcf | 16-Oct-2021 04:06 | 667 | ||