Name | Last modified | Size | Description | |
---|---|---|---|---|
Parent Directory | - | |||
buildbin-out.txt | 16-Oct-2021 04:06 | 1.2K | ||
checksrc-summary.dcf | 16-Oct-2021 04:06 | 490 | ||
checksrc-out.txt | 16-Oct-2021 04:06 | 3.5K | ||
buildbin-summary.dcf | 16-Oct-2021 04:06 | 565 | ||
buildsrc-summary.dcf | 16-Oct-2021 04:06 | 454 | ||
buildsrc-out.txt | 16-Oct-2021 04:06 | 845 | ||
install-summary.dcf | 16-Oct-2021 04:06 | 292 | ||
install-out.txt | 16-Oct-2021 04:06 | 1.0K | ||