Name | Last modified | Size | Description | |
---|---|---|---|---|
Parent Directory | - | |||
install-summary.dcf | 16-Oct-2021 04:05 | 257 | ||
install-out.txt | 16-Oct-2021 04:05 | 6.2K | ||
checksrc-summary.dcf | 16-Oct-2021 04:05 | 420 | ||
checksrc-out.txt | 16-Oct-2021 04:05 | 3.3K | ||
buildsrc-summary.dcf | 16-Oct-2021 04:05 | 415 | ||
buildsrc-out.txt | 16-Oct-2021 04:05 | 832 | ||