Name | Last modified | Size | Description | |
---|---|---|---|---|
Parent Directory | - | |||
install-summary.dcf | 16-Oct-2021 04:05 | 258 | ||
buildsrc-summary.dcf | 16-Oct-2021 04:05 | 415 | ||
checksrc-summary.dcf | 16-Oct-2021 04:05 | 422 | ||
buildsrc-out.txt | 16-Oct-2021 04:05 | 845 | ||
install-out.txt | 16-Oct-2021 04:05 | 939 | ||
checksrc-out.txt | 16-Oct-2021 04:05 | 3.6K | ||