Name | Last modified | Size | Description | |
---|---|---|---|---|
Parent Directory | - | |||
buildbin-out.txt | 16-Oct-2021 04:06 | 3.6K | ||
buildbin-summary.dcf | 16-Oct-2021 04:06 | 567 | ||
buildsrc-out.txt | 16-Oct-2021 04:06 | 833 | ||
buildsrc-summary.dcf | 16-Oct-2021 04:06 | 477 | ||
checksrc-out.txt | 16-Oct-2021 04:06 | 3.8K | ||
checksrc-summary.dcf | 16-Oct-2021 04:06 | 488 | ||
install-out.txt | 16-Oct-2021 04:06 | 4.3K | ||
install-summary.dcf | 16-Oct-2021 04:06 | 685 | ||