Name | Last modified | Size | Description | |
---|---|---|---|---|
Parent Directory | - | |||
buildbin-summary.dcf | 16-Oct-2021 04:06 | 573 | ||
buildbin-out.txt | 16-Oct-2021 04:06 | 174K | ||
checksrc-summary.dcf | 16-Oct-2021 04:06 | 490 | ||
checksrc-out.txt | 16-Oct-2021 04:06 | 17K | ||
buildsrc-summary.dcf | 16-Oct-2021 04:06 | 481 | ||
buildsrc-out.txt | 16-Oct-2021 04:06 | 1.3K | ||
install-out.txt | 16-Oct-2021 04:06 | 175K | ||
install-summary.dcf | 16-Oct-2021 04:06 | 689 | ||