![]() | Name | Last modified | Size | Description |
---|---|---|---|---|
![]() | Parent Directory | - | ||
![]() | install-summary.dcf | 16-Oct-2021 04:06 | 661 | |
![]() | install-out.txt | 16-Oct-2021 04:06 | 4.1K | |
![]() | checksrc-summary.dcf | 16-Oct-2021 04:06 | 472 | |
![]() | checksrc-out.txt | 16-Oct-2021 04:06 | 5.5K | |
![]() | buildsrc-summary.dcf | 16-Oct-2021 04:06 | 469 | |
![]() | buildsrc-out.txt | 16-Oct-2021 04:06 | 896 | |
![]() | buildbin-summary.dcf | 16-Oct-2021 04:06 | 555 | |
![]() | buildbin-out.txt | 16-Oct-2021 04:06 | 3.3K | |