Name | Last modified | Size | Description | |
---|---|---|---|---|
Parent Directory | - | |||
install-summary.dcf | 16-Oct-2021 04:06 | 299 | ||
install-out.txt | 16-Oct-2021 04:06 | 8.8K | ||
checksrc-summary.dcf | 16-Oct-2021 04:06 | 472 | ||
checksrc-out.txt | 16-Oct-2021 04:06 | 5.7K | ||
buildsrc-summary.dcf | 16-Oct-2021 04:06 | 466 | ||
buildsrc-out.txt | 16-Oct-2021 04:06 | 920 | ||
buildbin-summary.dcf | 16-Oct-2021 04:06 | 542 | ||
buildbin-out.txt | 16-Oct-2021 04:06 | 9.1K | ||