Index of /checkResults/3.13/bioc-LATEST/dualKS/raw-results/nebbiolo1
Name
Last modified
Size
Description
Parent Directory
-
install-summary.dcf
16-Oct-2021 04:05
256
install-out.txt
16-Oct-2021 04:05
944
buildsrc-summary.dcf
16-Oct-2021 04:05
330
buildsrc-out.txt
16-Oct-2021 04:05
2.7K