Index of /checkResults/3.13/bioc-LATEST/dpeak/raw-results/nebbiolo1

[ICO]NameLast modifiedSizeDescription

[DIR]Parent Directory  -  
[   ]install-summary.dcf16-Oct-2021 04:05 254  
[   ]buildsrc-summary.dcf16-Oct-2021 04:05 409  
[   ]checksrc-summary.dcf16-Oct-2021 04:05 414  
[TXT]buildsrc-out.txt16-Oct-2021 04:05 890  
[TXT]install-out.txt16-Oct-2021 04:05 2.6K 
[TXT]checksrc-out.txt16-Oct-2021 04:05 3.5K