Name | Last modified | Size | Description | |
---|---|---|---|---|
Parent Directory | - | |||
install-summary.dcf | 16-Oct-2021 04:06 | 644 | ||
install-out.txt | 16-Oct-2021 04:06 | 7.5K | ||
checksrc-summary.dcf | 16-Oct-2021 04:06 | 464 | ||
checksrc-out.txt | 16-Oct-2021 04:06 | 5.8K | ||
buildsrc-summary.dcf | 16-Oct-2021 04:06 | 461 | ||
buildsrc-out.txt | 16-Oct-2021 04:06 | 1.0K | ||
buildbin-summary.dcf | 16-Oct-2021 04:06 | 543 | ||
buildbin-out.txt | 16-Oct-2021 04:06 | 6.9K | ||