Index of /checkResults/3.13/bioc-LATEST/destiny/raw-results/nebbiolo1
Name
Last modified
Size
Description
Parent Directory
-
buildsrc-out.txt
16-Oct-2021 04:05
2.8K
buildsrc-summary.dcf
16-Oct-2021 04:05
332
install-out.txt
16-Oct-2021 04:05
78K
install-summary.dcf
16-Oct-2021 04:05
258