![]() | Name | Last modified | Size | Description |
---|---|---|---|---|
![]() | Parent Directory | - | ||
![]() | buildbin-out.txt | 16-Oct-2021 04:06 | 2.5K | |
![]() | buildbin-summary.dcf | 16-Oct-2021 04:06 | 512 | |
![]() | buildsrc-out.txt | 16-Oct-2021 04:06 | 824 | |
![]() | buildsrc-summary.dcf | 16-Oct-2021 04:06 | 440 | |
![]() | checksrc-out.txt | 16-Oct-2021 04:06 | 4.2K | |
![]() | checksrc-summary.dcf | 16-Oct-2021 04:06 | 444 | |
![]() | install-out.txt | 16-Oct-2021 04:06 | 3.1K | |
![]() | install-summary.dcf | 16-Oct-2021 04:06 | 598 | |