Name | Last modified | Size | Description | |
---|---|---|---|---|
Parent Directory | - | |||
buildbin-out.txt | 16-Oct-2021 04:06 | 30K | ||
buildbin-summary.dcf | 16-Oct-2021 04:06 | 545 | ||
buildsrc-out.txt | 16-Oct-2021 04:06 | 910 | ||
buildsrc-summary.dcf | 16-Oct-2021 04:06 | 443 | ||
checksrc-out.txt | 16-Oct-2021 04:06 | 3.9K | ||
checksrc-summary.dcf | 16-Oct-2021 04:06 | 475 | ||
install-out.txt | 16-Oct-2021 04:06 | 29K | ||
install-summary.dcf | 16-Oct-2021 04:06 | 286 | ||