Name | Last modified | Size | Description | |
---|---|---|---|---|
Parent Directory | - | |||
install-out.txt | 16-Oct-2021 04:06 | 4.2K | ||
checksrc-out.txt | 16-Oct-2021 04:06 | 3.5K | ||
buildbin-out.txt | 16-Oct-2021 04:06 | 3.4K | ||
buildsrc-out.txt | 16-Oct-2021 04:06 | 901 | ||
install-summary.dcf | 16-Oct-2021 04:06 | 670 | ||
buildbin-summary.dcf | 16-Oct-2021 04:06 | 560 | ||
checksrc-summary.dcf | 16-Oct-2021 04:06 | 476 | ||
buildsrc-summary.dcf | 16-Oct-2021 04:06 | 473 | ||