Name | Last modified | Size | Description | |
---|---|---|---|---|
Parent Directory | - | |||
install-out.txt | 16-Oct-2021 04:05 | 959 | ||
install-summary.dcf | 16-Oct-2021 04:05 | 265 | ||
buildsrc-out.txt | 16-Oct-2021 04:05 | 861 | ||
buildsrc-summary.dcf | 16-Oct-2021 04:05 | 427 | ||
checksrc-out.txt | 16-Oct-2021 04:05 | 2.9K | ||
checksrc-summary.dcf | 16-Oct-2021 04:05 | 437 | ||