![]() | Name | Last modified | Size | Description |
---|---|---|---|---|
![]() | Parent Directory | - | ||
![]() | checksrc-out.txt | 16-Oct-2021 04:06 | 3.7K | |
![]() | buildbin-out.txt | 16-Oct-2021 04:06 | 1.2K | |
![]() | install-out.txt | 16-Oct-2021 04:06 | 1.0K | |
![]() | buildsrc-out.txt | 16-Oct-2021 04:06 | 832 | |
![]() | buildbin-summary.dcf | 16-Oct-2021 04:06 | 544 | |
![]() | checksrc-summary.dcf | 16-Oct-2021 04:06 | 476 | |
![]() | buildsrc-summary.dcf | 16-Oct-2021 04:06 | 443 | |
![]() | install-summary.dcf | 16-Oct-2021 04:06 | 285 | |