Name | Last modified | Size | Description | |
---|---|---|---|---|
Parent Directory | - | |||
checksrc-out.txt | 16-Oct-2021 04:06 | 3.7K | ||
buildbin-out.txt | 16-Oct-2021 04:06 | 1.2K | ||
install-out.txt | 16-Oct-2021 04:06 | 1.0K | ||
buildsrc-out.txt | 16-Oct-2021 04:06 | 927 | ||
buildbin-summary.dcf | 16-Oct-2021 04:06 | 592 | ||
checksrc-summary.dcf | 16-Oct-2021 04:06 | 508 | ||
buildsrc-summary.dcf | 16-Oct-2021 04:06 | 466 | ||
install-summary.dcf | 16-Oct-2021 04:06 | 301 | ||