Name | Last modified | Size | Description | |
---|---|---|---|---|
Parent Directory | - | |||
buildbin-out.txt | 16-Oct-2021 04:06 | 30K | ||
buildbin-summary.dcf | 16-Oct-2021 04:06 | 552 | ||
buildsrc-out.txt | 16-Oct-2021 04:06 | 887 | ||
buildsrc-summary.dcf | 16-Oct-2021 04:06 | 465 | ||
checksrc-out.txt | 16-Oct-2021 04:06 | 5.8K | ||
checksrc-summary.dcf | 16-Oct-2021 04:06 | 476 | ||
install-out.txt | 16-Oct-2021 04:06 | 31K | ||
install-summary.dcf | 16-Oct-2021 04:06 | 659 | ||